BEGIN:VCALENDAR
VERSION:2.0
BEGIN:VEVENT
DTSTART:20260508T050000Z
DTEND:20260509T100000Z
SUMMARY:The Startup Studio
LOCATION:Te Au Pūngao, Level 1, 33 Arthur Street, Blenheim, Marlborough, 7201, New Zealand
END:VEVENT
END:VCALENDAR